BEGIN:VCALENDAR
VERSION:2.0
PRODID:-//Brookside Church - ECPv6.15.20//NONSGML v1.0//EN
CALSCALE:GREGORIAN
METHOD:PUBLISH
X-ORIGINAL-URL:https://www.brooksidechurch.cc
X-WR-CALDESC:Events for Brookside Church
REFRESH-INTERVAL;VALUE=DURATION:PT1H
X-Robots-Tag:noindex
X-PUBLISHED-TTL:PT1H
BEGIN:VTIMEZONE
TZID:America/Chicago
BEGIN:DAYLIGHT
TZOFFSETFROM:-0600
TZOFFSETTO:-0500
TZNAME:CDT
DTSTART:20190310T080000
END:DAYLIGHT
BEGIN:STANDARD
TZOFFSETFROM:-0500
TZOFFSETTO:-0600
TZNAME:CST
DTSTART:20191103T070000
END:STANDARD
BEGIN:DAYLIGHT
TZOFFSETFROM:-0600
TZOFFSETTO:-0500
TZNAME:CDT
DTSTART:20200308T080000
END:DAYLIGHT
BEGIN:STANDARD
TZOFFSETFROM:-0500
TZOFFSETTO:-0600
TZNAME:CST
DTSTART:20201101T070000
END:STANDARD
BEGIN:DAYLIGHT
TZOFFSETFROM:-0600
TZOFFSETTO:-0500
TZNAME:CDT
DTSTART:20210314T080000
END:DAYLIGHT
BEGIN:STANDARD
TZOFFSETFROM:-0500
TZOFFSETTO:-0600
TZNAME:CST
DTSTART:20211107T070000
END:STANDARD
END:VTIMEZONE
BEGIN:VEVENT
DTSTART;TZID=America/Chicago:20200115T183000
DTEND;TZID=America/Chicago:20200115T200000
DTSTAMP:20260422T111235
CREATED:20200110T185037Z
LAST-MODIFIED:20200110T185037Z
UID:2268-1579113000-1579118400@www.brooksidechurch.cc
SUMMARY:GT Groups
DESCRIPTION:GT Groups (Grow Together) meet at 6:45 pm to 8:00 pm – two locations\, McDonald’s on Hwy 76 on the hill – led by Sister Cindy Reich and Pastor Kevin’s office at Brookside Church on Hwy F – led by Pastor Kevin Reich.  This is a time we dig into God’s word and Grow Together.
URL:https://www.brooksidechurch.cc/event/gt-groups/
END:VEVENT
BEGIN:VEVENT
DTSTART;TZID=America/Chicago:20200115T183000
DTEND;TZID=America/Chicago:20200115T203000
DTSTAMP:20260422T111235
CREATED:20190923T130618Z
LAST-MODIFIED:20200110T185507Z
UID:2075-1579113000-1579120200@www.brooksidechurch.cc
SUMMARY:360 Life - Youth Service
DESCRIPTION:Brookside Church Youth “360 Life” Wednesday night gathering for grades 7 – 12\nLocation: Pastor TJ’s house \nFollow @go360life on facebook or twitter to keep up with new youth announcements and upcoming events.
URL:https://www.brooksidechurch.cc/event/360-life-youth-service-146/
LOCATION:Brookside Church\, 2193 State Hwy F\, Branson\, MO\, 65616\, United States
ORGANIZER;CN="Brookside Church":MAILTO:info@brooksidechurch.cc
END:VEVENT
END:VCALENDAR