BEGIN:VCALENDAR
VERSION:2.0
PRODID:-//Brookside Church - ECPv6.15.20//NONSGML v1.0//EN
CALSCALE:GREGORIAN
METHOD:PUBLISH
X-ORIGINAL-URL:https://www.brooksidechurch.cc
X-WR-CALDESC:Events for Brookside Church
REFRESH-INTERVAL;VALUE=DURATION:PT1H
X-Robots-Tag:noindex
X-PUBLISHED-TTL:PT1H
BEGIN:VTIMEZONE
TZID:America/Chicago
BEGIN:DAYLIGHT
TZOFFSETFROM:-0600
TZOFFSETTO:-0500
TZNAME:CDT
DTSTART:20190310T080000
END:DAYLIGHT
BEGIN:STANDARD
TZOFFSETFROM:-0500
TZOFFSETTO:-0600
TZNAME:CST
DTSTART:20191103T070000
END:STANDARD
BEGIN:DAYLIGHT
TZOFFSETFROM:-0600
TZOFFSETTO:-0500
TZNAME:CDT
DTSTART:20200308T080000
END:DAYLIGHT
BEGIN:STANDARD
TZOFFSETFROM:-0500
TZOFFSETTO:-0600
TZNAME:CST
DTSTART:20201101T070000
END:STANDARD
BEGIN:DAYLIGHT
TZOFFSETFROM:-0600
TZOFFSETTO:-0500
TZNAME:CDT
DTSTART:20210314T080000
END:DAYLIGHT
BEGIN:STANDARD
TZOFFSETFROM:-0500
TZOFFSETTO:-0600
TZNAME:CST
DTSTART:20211107T070000
END:STANDARD
END:VTIMEZONE
BEGIN:VEVENT
DTSTART;TZID=America/Chicago:20200621T100000
DTEND;TZID=America/Chicago:20200621T113000
DTSTAMP:20260423T142818
CREATED:20200521T183956Z
LAST-MODIFIED:20200521T184045Z
UID:2676-1592733600-1592739000@www.brooksidechurch.cc
SUMMARY:Sunday Service 10:00 AM
DESCRIPTION:Church Service Canceled Due to the Guidelines Put Out by the CDC Concerning the Coronavirus.  We will be live-streaming the service Sunday morning on Facebook at 10:00 AM.
URL:https://www.brooksidechurch.cc/event/sunday-service-1000-am-3/
END:VEVENT
END:VCALENDAR