BEGIN:VCALENDAR
VERSION:2.0
PRODID:-//Brookside Church - ECPv6.15.20//NONSGML v1.0//EN
CALSCALE:GREGORIAN
METHOD:PUBLISH
X-ORIGINAL-URL:https://www.brooksidechurch.cc
X-WR-CALDESC:Events for Brookside Church
REFRESH-INTERVAL;VALUE=DURATION:PT1H
X-Robots-Tag:noindex
X-PUBLISHED-TTL:PT1H
BEGIN:VTIMEZONE
TZID:America/Chicago
BEGIN:DAYLIGHT
TZOFFSETFROM:-0600
TZOFFSETTO:-0500
TZNAME:CDT
DTSTART:20200308T080000
END:DAYLIGHT
BEGIN:STANDARD
TZOFFSETFROM:-0500
TZOFFSETTO:-0600
TZNAME:CST
DTSTART:20201101T070000
END:STANDARD
BEGIN:DAYLIGHT
TZOFFSETFROM:-0600
TZOFFSETTO:-0500
TZNAME:CDT
DTSTART:20210314T080000
END:DAYLIGHT
BEGIN:STANDARD
TZOFFSETFROM:-0500
TZOFFSETTO:-0600
TZNAME:CST
DTSTART:20211107T070000
END:STANDARD
BEGIN:DAYLIGHT
TZOFFSETFROM:-0600
TZOFFSETTO:-0500
TZNAME:CDT
DTSTART:20220313T080000
END:DAYLIGHT
BEGIN:STANDARD
TZOFFSETFROM:-0500
TZOFFSETTO:-0600
TZNAME:CST
DTSTART:20221106T070000
END:STANDARD
END:VTIMEZONE
BEGIN:VEVENT
DTSTART;TZID=America/Chicago:20211110T180000
DTEND;TZID=America/Chicago:20211110T200000
DTSTAMP:20260422T111230
CREATED:20211021T173735Z
LAST-MODIFIED:20211021T173735Z
UID:3708-1636567200-1636574400@www.brooksidechurch.cc
SUMMARY:Mid-Week Service - 6:30 pm
DESCRIPTION:“David – A Man After God’s Own Heart” part 3  Kris Essary.  Children’s Class and Nursery Provided.
URL:https://www.brooksidechurch.cc/event/mid-week-service-630-pm-2/
END:VEVENT
BEGIN:VEVENT
DTSTART;TZID=America/Chicago:20211110T190000
DTEND;TZID=America/Chicago:20211110T203000
DTSTAMP:20260422T111230
CREATED:20211021T174010Z
LAST-MODIFIED:20211021T174128Z
UID:3713-1636570800-1636576200@www.brooksidechurch.cc
SUMMARY:360 Life Youth Service
DESCRIPTION:Brookside Church Youth “360 Life” Wednesday night gathering for grades 7 – 12\nLocation:  Brookside Church.   Time: 7:00 pm \nFollow @go360life on Facebook or Twitter to keep up with new youth announcements and upcoming events
URL:https://www.brooksidechurch.cc/event/360-life-service/
END:VEVENT
END:VCALENDAR