BEGIN:VCALENDAR
VERSION:2.0
PRODID:-//Brookside Church - ECPv6.15.20//NONSGML v1.0//EN
CALSCALE:GREGORIAN
METHOD:PUBLISH
X-ORIGINAL-URL:https://www.brooksidechurch.cc
X-WR-CALDESC:Events for Brookside Church
REFRESH-INTERVAL;VALUE=DURATION:PT1H
X-Robots-Tag:noindex
X-PUBLISHED-TTL:PT1H
BEGIN:VTIMEZONE
TZID:America/Chicago
BEGIN:DAYLIGHT
TZOFFSETFROM:-0600
TZOFFSETTO:-0500
TZNAME:CDT
DTSTART:20200308T080000
END:DAYLIGHT
BEGIN:STANDARD
TZOFFSETFROM:-0500
TZOFFSETTO:-0600
TZNAME:CST
DTSTART:20201101T070000
END:STANDARD
BEGIN:DAYLIGHT
TZOFFSETFROM:-0600
TZOFFSETTO:-0500
TZNAME:CDT
DTSTART:20210314T080000
END:DAYLIGHT
BEGIN:STANDARD
TZOFFSETFROM:-0500
TZOFFSETTO:-0600
TZNAME:CST
DTSTART:20211107T070000
END:STANDARD
BEGIN:DAYLIGHT
TZOFFSETFROM:-0600
TZOFFSETTO:-0500
TZNAME:CDT
DTSTART:20220313T080000
END:DAYLIGHT
BEGIN:STANDARD
TZOFFSETFROM:-0500
TZOFFSETTO:-0600
TZNAME:CST
DTSTART:20221106T070000
END:STANDARD
END:VTIMEZONE
BEGIN:VEVENT
DTSTART;TZID=America/Chicago:20211114T080000
DTEND;TZID=America/Chicago:20211114T170000
DTSTAMP:20260422T111201
CREATED:20211021T172306Z
LAST-MODIFIED:20211021T172306Z
UID:3692-1636876800-1636909200@www.brooksidechurch.cc
SUMMARY:Sunday Morning Worship Service 10:00 am
DESCRIPTION:Children’s Church and Nursery Provided.
URL:https://www.brooksidechurch.cc/event/sunday-morning-worship-service-1000-am-4/
END:VEVENT
BEGIN:VEVENT
DTSTART;TZID=America/Chicago:20211114T090000
DTEND;TZID=America/Chicago:20211114T094500
DTSTAMP:20260422T111201
CREATED:20211118T175333Z
LAST-MODIFIED:20211118T175333Z
UID:3771-1636880400-1636883100@www.brooksidechurch.cc
SUMMARY:Sunday Morning Prayer - 9:00 am
DESCRIPTION:Prayer starts at 9:00 am to 9:45 am  –  We are praying for the Sunday Morning Service.
URL:https://www.brooksidechurch.cc/event/sunday-morning-prayer-900-am-2/
END:VEVENT
BEGIN:VEVENT
DTSTART;TZID=America/Chicago:20211114T090000
DTEND;TZID=America/Chicago:20211114T094500
DTSTAMP:20260422T111201
CREATED:20211118T175851Z
LAST-MODIFIED:20211118T175851Z
UID:3781-1636880400-1636883100@www.brooksidechurch.cc
SUMMARY:Sunday Morning Prayer - 9:00 am
DESCRIPTION:Prayer starts at 9:00 am to 9:45 am  –  We are praying for the Sunday Morning Service.
URL:https://www.brooksidechurch.cc/event/sunday-morning-prayer-900-am-7/
END:VEVENT
BEGIN:VEVENT
DTSTART;TZID=America/Chicago:20211114T100000
DTEND;TZID=America/Chicago:20211114T113000
DTSTAMP:20260422T111201
CREATED:20211021T172421Z
LAST-MODIFIED:20211021T172421Z
UID:3694-1636884000-1636889400@www.brooksidechurch.cc
SUMMARY:Ozark Teen Challenge
DESCRIPTION:
URL:https://www.brooksidechurch.cc/event/ozark-teen-challenge-6/
END:VEVENT
END:VCALENDAR