BEGIN:VCALENDAR
VERSION:2.0
PRODID:-//Brookside Church - ECPv6.15.20//NONSGML v1.0//EN
CALSCALE:GREGORIAN
METHOD:PUBLISH
X-ORIGINAL-URL:https://www.brooksidechurch.cc
X-WR-CALDESC:Events for Brookside Church
REFRESH-INTERVAL;VALUE=DURATION:PT1H
X-Robots-Tag:noindex
X-PUBLISHED-TTL:PT1H
BEGIN:VTIMEZONE
TZID:America/Chicago
BEGIN:DAYLIGHT
TZOFFSETFROM:-0600
TZOFFSETTO:-0500
TZNAME:CDT
DTSTART:20210314T080000
END:DAYLIGHT
BEGIN:STANDARD
TZOFFSETFROM:-0500
TZOFFSETTO:-0600
TZNAME:CST
DTSTART:20211107T070000
END:STANDARD
BEGIN:DAYLIGHT
TZOFFSETFROM:-0600
TZOFFSETTO:-0500
TZNAME:CDT
DTSTART:20220313T080000
END:DAYLIGHT
BEGIN:STANDARD
TZOFFSETFROM:-0500
TZOFFSETTO:-0600
TZNAME:CST
DTSTART:20221106T070000
END:STANDARD
BEGIN:DAYLIGHT
TZOFFSETFROM:-0600
TZOFFSETTO:-0500
TZNAME:CDT
DTSTART:20230312T080000
END:DAYLIGHT
BEGIN:STANDARD
TZOFFSETFROM:-0500
TZOFFSETTO:-0600
TZNAME:CST
DTSTART:20231105T070000
END:STANDARD
END:VTIMEZONE
BEGIN:VEVENT
DTSTART;TZID=America/Chicago:20220102T090000
DTEND;TZID=America/Chicago:20220102T094500
DTSTAMP:20260422T162359
CREATED:20211230T203752Z
LAST-MODIFIED:20211230T203752Z
UID:3839-1641114000-1641116700@www.brooksidechurch.cc
SUMMARY:Sunday Morning Prayer - 9:00 am
DESCRIPTION:Prayer starts at 9:00 am to 9:45 am  –  We are praying for the Sunday Morning Service.
URL:https://www.brooksidechurch.cc/event/sunday-morning-prayer-900-am-10/
END:VEVENT
BEGIN:VEVENT
DTSTART;TZID=America/Chicago:20220102T100000
DTEND;TZID=America/Chicago:20220102T113000
DTSTAMP:20260422T162359
CREATED:20211230T204530Z
LAST-MODIFIED:20211230T204530Z
UID:3849-1641117600-1641123000@www.brooksidechurch.cc
SUMMARY:Sunday Morning Worship Service - 10:00 am
DESCRIPTION:Children’s Church and Nursery Provided.
URL:https://www.brooksidechurch.cc/event/sunday-morning-worship-service-1000-am-9/
END:VEVENT
BEGIN:VEVENT
DTSTART;TZID=America/Chicago:20220102T120000
DTEND;TZID=America/Chicago:20220102T150000
DTSTAMP:20260422T162359
CREATED:20211230T205334Z
LAST-MODIFIED:20211230T205334Z
UID:3860-1641124800-1641135600@www.brooksidechurch.cc
SUMMARY:Women 2 Women Ministries
DESCRIPTION:Lunch at Bob Evans immediately after the morning service.  Carpooling is provided.  This is a ministry for women who are single\, divorced\, or widowed.  Join us for an afternoon of fun and fellowship.
URL:https://www.brooksidechurch.cc/event/women-2-women-ministries-2/
END:VEVENT
END:VCALENDAR