BEGIN:VCALENDAR
VERSION:2.0
PRODID:-//Brookside Church - ECPv6.15.20//NONSGML v1.0//EN
CALSCALE:GREGORIAN
METHOD:PUBLISH
X-ORIGINAL-URL:https://www.brooksidechurch.cc
X-WR-CALDESC:Events for Brookside Church
REFRESH-INTERVAL;VALUE=DURATION:PT1H
X-Robots-Tag:noindex
X-PUBLISHED-TTL:PT1H
BEGIN:VTIMEZONE
TZID:America/Chicago
BEGIN:DAYLIGHT
TZOFFSETFROM:-0600
TZOFFSETTO:-0500
TZNAME:CDT
DTSTART:20210314T080000
END:DAYLIGHT
BEGIN:STANDARD
TZOFFSETFROM:-0500
TZOFFSETTO:-0600
TZNAME:CST
DTSTART:20211107T070000
END:STANDARD
BEGIN:DAYLIGHT
TZOFFSETFROM:-0600
TZOFFSETTO:-0500
TZNAME:CDT
DTSTART:20220313T080000
END:DAYLIGHT
BEGIN:STANDARD
TZOFFSETFROM:-0500
TZOFFSETTO:-0600
TZNAME:CST
DTSTART:20221106T070000
END:STANDARD
BEGIN:DAYLIGHT
TZOFFSETFROM:-0600
TZOFFSETTO:-0500
TZNAME:CDT
DTSTART:20230312T080000
END:DAYLIGHT
BEGIN:STANDARD
TZOFFSETFROM:-0500
TZOFFSETTO:-0600
TZNAME:CST
DTSTART:20231105T070000
END:STANDARD
END:VTIMEZONE
BEGIN:VEVENT
DTSTART;TZID=America/Chicago:20220109T090000
DTEND;TZID=America/Chicago:20220109T094500
DTSTAMP:20260422T143258
CREATED:20211230T203849Z
LAST-MODIFIED:20211230T203849Z
UID:3841-1641718800-1641721500@www.brooksidechurch.cc
SUMMARY:Sunday Morning Prayer - 9:00 am
DESCRIPTION:Prayer starts at 9:00 am to 9:45 am  –  We are praying for the Sunday Morning Service.
URL:https://www.brooksidechurch.cc/event/sunday-morning-prayer-900-am-12/
END:VEVENT
BEGIN:VEVENT
DTSTART;TZID=America/Chicago:20220109T100000
DTEND;TZID=America/Chicago:20220109T113000
DTSTAMP:20260422T143258
CREATED:20211230T204622Z
LAST-MODIFIED:20211230T204622Z
UID:3851-1641722400-1641727800@www.brooksidechurch.cc
SUMMARY:Sunday Morning Worship Service - 10:00 am
DESCRIPTION:Children’s Church and Nursery Provided
URL:https://www.brooksidechurch.cc/event/sunday-morning-worship-service-1000-am-10/
END:VEVENT
BEGIN:VEVENT
DTSTART;TZID=America/Chicago:20220109T100000
DTEND;TZID=America/Chicago:20220109T113000
DTSTAMP:20260422T143258
CREATED:20211230T205517Z
LAST-MODIFIED:20211230T205517Z
UID:3863-1641722400-1641727800@www.brooksidechurch.cc
SUMMARY:Ozark Teen Challenge
DESCRIPTION:
URL:https://www.brooksidechurch.cc/event/ozark-teen-challenge-7/
END:VEVENT
END:VCALENDAR