BEGIN:VCALENDAR
VERSION:2.0
PRODID:-//Brookside Church - ECPv6.15.20//NONSGML v1.0//EN
CALSCALE:GREGORIAN
METHOD:PUBLISH
X-WR-CALNAME:Brookside Church
X-ORIGINAL-URL:https://www.brooksidechurch.cc
X-WR-CALDESC:Events for Brookside Church
REFRESH-INTERVAL;VALUE=DURATION:PT1H
X-Robots-Tag:noindex
X-PUBLISHED-TTL:PT1H
BEGIN:VTIMEZONE
TZID:America/Chicago
BEGIN:DAYLIGHT
TZOFFSETFROM:-0600
TZOFFSETTO:-0500
TZNAME:CDT
DTSTART:20210314T080000
END:DAYLIGHT
BEGIN:STANDARD
TZOFFSETFROM:-0500
TZOFFSETTO:-0600
TZNAME:CST
DTSTART:20211107T070000
END:STANDARD
BEGIN:DAYLIGHT
TZOFFSETFROM:-0600
TZOFFSETTO:-0500
TZNAME:CDT
DTSTART:20220313T080000
END:DAYLIGHT
BEGIN:STANDARD
TZOFFSETFROM:-0500
TZOFFSETTO:-0600
TZNAME:CST
DTSTART:20221106T070000
END:STANDARD
BEGIN:DAYLIGHT
TZOFFSETFROM:-0600
TZOFFSETTO:-0500
TZNAME:CDT
DTSTART:20230312T080000
END:DAYLIGHT
BEGIN:STANDARD
TZOFFSETFROM:-0500
TZOFFSETTO:-0600
TZNAME:CST
DTSTART:20231105T070000
END:STANDARD
END:VTIMEZONE
BEGIN:VEVENT
DTSTART;TZID=America/Chicago:20220130T090000
DTEND;TZID=America/Chicago:20220130T094500
DTSTAMP:20260422T162028
CREATED:20211230T204314Z
LAST-MODIFIED:20211230T204314Z
UID:3847-1643533200-1643535900@www.brooksidechurch.cc
SUMMARY:Sunday Morning Prayer - 9:00 am
DESCRIPTION:Prayer starts at 9:00 am to 9:45 am  –  We are praying for the Sunday Morning Service.
URL:https://www.brooksidechurch.cc/event/sunday-morning-prayer-900-am-15/
END:VEVENT
BEGIN:VEVENT
DTSTART;TZID=America/Chicago:20220130T100000
DTEND;TZID=America/Chicago:20220130T113000
DTSTAMP:20260422T162028
CREATED:20211230T204807Z
LAST-MODIFIED:20211230T204807Z
UID:3855-1643536800-1643542200@www.brooksidechurch.cc
SUMMARY:Sunday Morning Worship Service - 10:00 am
DESCRIPTION:Children’s Church and Nursery Provided.
URL:https://www.brooksidechurch.cc/event/sunday-morning-worship-service-1000-am-12/
END:VEVENT
BEGIN:VEVENT
DTSTART;TZID=America/Chicago:20220130T100000
DTEND;TZID=America/Chicago:20220130T113000
DTSTAMP:20260422T162028
CREATED:20211231T180555Z
LAST-MODIFIED:20211231T180734Z
UID:3893-1643536800-1643542200@www.brooksidechurch.cc
SUMMARY:Family Sunday
DESCRIPTION:We like to give our Children’s Church workers a time to be with their families\, so there will not be Children’s Church this Sunday.
URL:https://www.brooksidechurch.cc/event/family-sunday-5/
END:VEVENT
END:VCALENDAR