BEGIN:VCALENDAR
VERSION:2.0
PRODID:-//Brookside Church - ECPv6.15.20//NONSGML v1.0//EN
CALSCALE:GREGORIAN
METHOD:PUBLISH
X-WR-CALNAME:Brookside Church
X-ORIGINAL-URL:https://www.brooksidechurch.cc
X-WR-CALDESC:Events for Brookside Church
REFRESH-INTERVAL;VALUE=DURATION:PT1H
X-Robots-Tag:noindex
X-PUBLISHED-TTL:PT1H
BEGIN:VTIMEZONE
TZID:America/Chicago
BEGIN:DAYLIGHT
TZOFFSETFROM:-0600
TZOFFSETTO:-0500
TZNAME:CDT
DTSTART:20210314T080000
END:DAYLIGHT
BEGIN:STANDARD
TZOFFSETFROM:-0500
TZOFFSETTO:-0600
TZNAME:CST
DTSTART:20211107T070000
END:STANDARD
BEGIN:DAYLIGHT
TZOFFSETFROM:-0600
TZOFFSETTO:-0500
TZNAME:CDT
DTSTART:20220313T080000
END:DAYLIGHT
BEGIN:STANDARD
TZOFFSETFROM:-0500
TZOFFSETTO:-0600
TZNAME:CST
DTSTART:20221106T070000
END:STANDARD
BEGIN:DAYLIGHT
TZOFFSETFROM:-0600
TZOFFSETTO:-0500
TZNAME:CDT
DTSTART:20230312T080000
END:DAYLIGHT
BEGIN:STANDARD
TZOFFSETFROM:-0500
TZOFFSETTO:-0600
TZNAME:CST
DTSTART:20231105T070000
END:STANDARD
END:VTIMEZONE
BEGIN:VEVENT
DTSTART;TZID=America/Chicago:20220330T183000
DTEND;TZID=America/Chicago:20220330T200000
DTSTAMP:20260419T120714
CREATED:20220301T191839Z
LAST-MODIFIED:20220301T193431Z
UID:4005-1648665000-1648670400@www.brooksidechurch.cc
SUMMARY:Mid-Week Service - 6:30 pm
DESCRIPTION:Worship Service  – Pastor Jack Clemens will be our special guest speaker. \n 
URL:https://www.brooksidechurch.cc/event/mid-week-service-630-pm-21/
END:VEVENT
BEGIN:VEVENT
DTSTART;TZID=America/Chicago:20220330T190000
DTEND;TZID=America/Chicago:20220330T203000
DTSTAMP:20260419T120714
CREATED:20220301T192613Z
LAST-MODIFIED:20220301T192644Z
UID:4010-1648666800-1648672200@www.brooksidechurch.cc
SUMMARY:360 Life Youth Service - 7:00 pm
DESCRIPTION:Brookside Church Youth “360 Life” Wednesday night gathering for grades 7 – 12\nLocation:  Brookside Church.   Time: 7:00 pm \nFollow @go360life on Facebook or Twitter to keep up with new youth announcements and upcoming events
URL:https://www.brooksidechurch.cc/event/360-life-youth-service-700-pm-12/
END:VEVENT
END:VCALENDAR