BEGIN:VCALENDAR
VERSION:2.0
PRODID:-//Brookside Church - ECPv6.15.20//NONSGML v1.0//EN
CALSCALE:GREGORIAN
METHOD:PUBLISH
X-WR-CALNAME:Brookside Church
X-ORIGINAL-URL:https://www.brooksidechurch.cc
X-WR-CALDESC:Events for Brookside Church
REFRESH-INTERVAL;VALUE=DURATION:PT1H
X-Robots-Tag:noindex
X-PUBLISHED-TTL:PT1H
BEGIN:VTIMEZONE
TZID:America/Chicago
BEGIN:DAYLIGHT
TZOFFSETFROM:-0600
TZOFFSETTO:-0500
TZNAME:CDT
DTSTART:20210314T080000
END:DAYLIGHT
BEGIN:STANDARD
TZOFFSETFROM:-0500
TZOFFSETTO:-0600
TZNAME:CST
DTSTART:20211107T070000
END:STANDARD
BEGIN:DAYLIGHT
TZOFFSETFROM:-0600
TZOFFSETTO:-0500
TZNAME:CDT
DTSTART:20220313T080000
END:DAYLIGHT
BEGIN:STANDARD
TZOFFSETFROM:-0500
TZOFFSETTO:-0600
TZNAME:CST
DTSTART:20221106T070000
END:STANDARD
BEGIN:DAYLIGHT
TZOFFSETFROM:-0600
TZOFFSETTO:-0500
TZNAME:CDT
DTSTART:20230312T080000
END:DAYLIGHT
BEGIN:STANDARD
TZOFFSETFROM:-0500
TZOFFSETTO:-0600
TZNAME:CST
DTSTART:20231105T070000
END:STANDARD
END:VTIMEZONE
BEGIN:VEVENT
DTSTART;TZID=America/Chicago:20220403T090000
DTEND;TZID=America/Chicago:20220403T094500
DTSTAMP:20260419T145947
CREATED:20220405T141158Z
LAST-MODIFIED:20220405T141445Z
UID:4079-1648976400-1648979100@www.brooksidechurch.cc
SUMMARY:Sunday Morning Prayer - 9:00 - 9:45 am
DESCRIPTION:Meet in the basement – we pray for the Sunday Morning Worship Service – 9:00 – 9:45 am.
URL:https://www.brooksidechurch.cc/event/sunday-morning-prayer-900-945-am-5/
END:VEVENT
BEGIN:VEVENT
DTSTART;TZID=America/Chicago:20220403T100000
DTEND;TZID=America/Chicago:20220403T113000
DTSTAMP:20260419T145947
CREATED:20220405T141643Z
LAST-MODIFIED:20220405T141643Z
UID:4088-1648980000-1648985400@www.brooksidechurch.cc
SUMMARY:Sunday Morning Worship Service - 10:00am
DESCRIPTION:Children’s Church and Nursery Available
URL:https://www.brooksidechurch.cc/event/sunday-morning-worship-service-1000am/
END:VEVENT
END:VCALENDAR