BEGIN:VCALENDAR
VERSION:2.0
PRODID:-//Brookside Church - ECPv6.15.20//NONSGML v1.0//EN
CALSCALE:GREGORIAN
METHOD:PUBLISH
X-ORIGINAL-URL:https://www.brooksidechurch.cc
X-WR-CALDESC:Events for Brookside Church
REFRESH-INTERVAL;VALUE=DURATION:PT1H
X-Robots-Tag:noindex
X-PUBLISHED-TTL:PT1H
BEGIN:VTIMEZONE
TZID:America/Chicago
BEGIN:DAYLIGHT
TZOFFSETFROM:-0600
TZOFFSETTO:-0500
TZNAME:CDT
DTSTART:20220313T080000
END:DAYLIGHT
BEGIN:STANDARD
TZOFFSETFROM:-0500
TZOFFSETTO:-0600
TZNAME:CST
DTSTART:20221106T070000
END:STANDARD
BEGIN:DAYLIGHT
TZOFFSETFROM:-0600
TZOFFSETTO:-0500
TZNAME:CDT
DTSTART:20230312T080000
END:DAYLIGHT
BEGIN:STANDARD
TZOFFSETFROM:-0500
TZOFFSETTO:-0600
TZNAME:CST
DTSTART:20231105T070000
END:STANDARD
BEGIN:DAYLIGHT
TZOFFSETFROM:-0600
TZOFFSETTO:-0500
TZNAME:CDT
DTSTART:20240310T080000
END:DAYLIGHT
BEGIN:STANDARD
TZOFFSETFROM:-0500
TZOFFSETTO:-0600
TZNAME:CST
DTSTART:20241103T070000
END:STANDARD
END:VTIMEZONE
BEGIN:VEVENT
DTSTART;TZID=America/Chicago:20230409T090000
DTEND;TZID=America/Chicago:20230409T094500
DTSTAMP:20260423T083437
CREATED:20230406T193420Z
LAST-MODIFIED:20230406T193420Z
UID:4974-1681030800-1681033500@www.brooksidechurch.cc
SUMMARY:Sunday Morning Prayer 9:00 am - 9:45 am
DESCRIPTION:Meet in the Basement Area
URL:https://www.brooksidechurch.cc/event/sunday-morning-prayer-900-am-945-am-14/
END:VEVENT
BEGIN:VEVENT
DTSTART;TZID=America/Chicago:20230409T100000
DTEND;TZID=America/Chicago:20230409T113000
DTSTAMP:20260423T083437
CREATED:20230406T193751Z
LAST-MODIFIED:20230406T193751Z
UID:4984-1681034400-1681039800@www.brooksidechurch.cc
SUMMARY:Sunday Morning Worship Service 10:00 - 11:30am
DESCRIPTION:Children’s Church & Nursery Available
URL:https://www.brooksidechurch.cc/event/sunday-morning-worship-service-1000-1130am-13/
END:VEVENT
END:VCALENDAR