BEGIN:VCALENDAR
VERSION:2.0
PRODID:-//Brookside Church - ECPv6.15.20//NONSGML v1.0//EN
CALSCALE:GREGORIAN
METHOD:PUBLISH
X-WR-CALNAME:Brookside Church
X-ORIGINAL-URL:https://www.brooksidechurch.cc
X-WR-CALDESC:Events for Brookside Church
REFRESH-INTERVAL;VALUE=DURATION:PT1H
X-Robots-Tag:noindex
X-PUBLISHED-TTL:PT1H
BEGIN:VTIMEZONE
TZID:America/Chicago
BEGIN:DAYLIGHT
TZOFFSETFROM:-0600
TZOFFSETTO:-0500
TZNAME:CDT
DTSTART:20220313T080000
END:DAYLIGHT
BEGIN:STANDARD
TZOFFSETFROM:-0500
TZOFFSETTO:-0600
TZNAME:CST
DTSTART:20221106T070000
END:STANDARD
BEGIN:DAYLIGHT
TZOFFSETFROM:-0600
TZOFFSETTO:-0500
TZNAME:CDT
DTSTART:20230312T080000
END:DAYLIGHT
BEGIN:STANDARD
TZOFFSETFROM:-0500
TZOFFSETTO:-0600
TZNAME:CST
DTSTART:20231105T070000
END:STANDARD
BEGIN:DAYLIGHT
TZOFFSETFROM:-0600
TZOFFSETTO:-0500
TZNAME:CDT
DTSTART:20240310T080000
END:DAYLIGHT
BEGIN:STANDARD
TZOFFSETFROM:-0500
TZOFFSETTO:-0600
TZNAME:CST
DTSTART:20241103T070000
END:STANDARD
END:VTIMEZONE
BEGIN:VEVENT
DTSTART;TZID=America/Chicago:20230820T090000
DTEND;TZID=America/Chicago:20230820T094500
DTSTAMP:20260422T110156
CREATED:20230801T161300Z
LAST-MODIFIED:20230801T161300Z
UID:5300-1692522000-1692524700@www.brooksidechurch.cc
SUMMARY:Sunday Morning Prayer - 9:00 - 9:45am
DESCRIPTION:In The Basement Area
URL:https://www.brooksidechurch.cc/event/sunday-morning-prayer-900-945am-9/
END:VEVENT
BEGIN:VEVENT
DTSTART;TZID=America/Chicago:20230820T100000
DTEND;TZID=America/Chicago:20230820T113000
DTSTAMP:20260422T110156
CREATED:20230801T150930Z
LAST-MODIFIED:20230801T150930Z
UID:5287-1692525600-1692531000@www.brooksidechurch.cc
SUMMARY:Sunday Morning Worship Service - 10:00 am
DESCRIPTION:Children’s Church And Nursery Are Available.
URL:https://www.brooksidechurch.cc/event/sunday-morning-worship-service-1000-am-49/
END:VEVENT
END:VCALENDAR