BEGIN:VCALENDAR
VERSION:2.0
PRODID:-//Brookside Church - ECPv6.15.20//NONSGML v1.0//EN
CALSCALE:GREGORIAN
METHOD:PUBLISH
X-WR-CALNAME:Brookside Church
X-ORIGINAL-URL:https://www.brooksidechurch.cc
X-WR-CALDESC:Events for Brookside Church
REFRESH-INTERVAL;VALUE=DURATION:PT1H
X-Robots-Tag:noindex
X-PUBLISHED-TTL:PT1H
BEGIN:VTIMEZONE
TZID:America/Chicago
BEGIN:DAYLIGHT
TZOFFSETFROM:-0600
TZOFFSETTO:-0500
TZNAME:CDT
DTSTART:20220313T080000
END:DAYLIGHT
BEGIN:STANDARD
TZOFFSETFROM:-0500
TZOFFSETTO:-0600
TZNAME:CST
DTSTART:20221106T070000
END:STANDARD
BEGIN:DAYLIGHT
TZOFFSETFROM:-0600
TZOFFSETTO:-0500
TZNAME:CDT
DTSTART:20230312T080000
END:DAYLIGHT
BEGIN:STANDARD
TZOFFSETFROM:-0500
TZOFFSETTO:-0600
TZNAME:CST
DTSTART:20231105T070000
END:STANDARD
BEGIN:DAYLIGHT
TZOFFSETFROM:-0600
TZOFFSETTO:-0500
TZNAME:CDT
DTSTART:20240310T080000
END:DAYLIGHT
BEGIN:STANDARD
TZOFFSETFROM:-0500
TZOFFSETTO:-0600
TZNAME:CST
DTSTART:20241103T070000
END:STANDARD
END:VTIMEZONE
BEGIN:VEVENT
DTSTART;TZID=America/Chicago:20230827T083000
DTEND;TZID=America/Chicago:20230827T093000
DTSTAMP:20260422T110155
CREATED:20230801T151427Z
LAST-MODIFIED:20230801T161436Z
UID:5295-1693125000-1693128600@www.brooksidechurch.cc
SUMMARY:Family Breakfast
DESCRIPTION:In The Basement Area. All donations go towards Children’s Ministries.
URL:https://www.brooksidechurch.cc/event/sunday-morning-prayer-900-945am-8/
END:VEVENT
BEGIN:VEVENT
DTSTART;TZID=America/Chicago:20230827T100000
DTEND;TZID=America/Chicago:20230827T113000
DTSTAMP:20260422T110155
CREATED:20230801T151121Z
LAST-MODIFIED:20230801T151121Z
UID:5289-1693130400-1693135800@www.brooksidechurch.cc
SUMMARY:Sunday Morning Worship Service - 10:00 am
DESCRIPTION:No Children’s Church this Sunday\, It’s Family Sunday\, Nursery will be available.
URL:https://www.brooksidechurch.cc/event/sunday-morning-worship-service-1000-am-50/
END:VEVENT
END:VCALENDAR