BEGIN:VCALENDAR
VERSION:2.0
PRODID:-//Brookside Church - ECPv6.15.20//NONSGML v1.0//EN
CALSCALE:GREGORIAN
METHOD:PUBLISH
X-WR-CALNAME:Brookside Church
X-ORIGINAL-URL:https://www.brooksidechurch.cc
X-WR-CALDESC:Events for Brookside Church
REFRESH-INTERVAL;VALUE=DURATION:PT1H
X-Robots-Tag:noindex
X-PUBLISHED-TTL:PT1H
BEGIN:VTIMEZONE
TZID:America/Chicago
BEGIN:DAYLIGHT
TZOFFSETFROM:-0600
TZOFFSETTO:-0500
TZNAME:CDT
DTSTART:20230312T080000
END:DAYLIGHT
BEGIN:STANDARD
TZOFFSETFROM:-0500
TZOFFSETTO:-0600
TZNAME:CST
DTSTART:20231105T070000
END:STANDARD
BEGIN:DAYLIGHT
TZOFFSETFROM:-0600
TZOFFSETTO:-0500
TZNAME:CDT
DTSTART:20240310T080000
END:DAYLIGHT
BEGIN:STANDARD
TZOFFSETFROM:-0500
TZOFFSETTO:-0600
TZNAME:CST
DTSTART:20241103T070000
END:STANDARD
BEGIN:DAYLIGHT
TZOFFSETFROM:-0600
TZOFFSETTO:-0500
TZNAME:CDT
DTSTART:20250309T080000
END:DAYLIGHT
BEGIN:STANDARD
TZOFFSETFROM:-0500
TZOFFSETTO:-0600
TZNAME:CST
DTSTART:20251102T070000
END:STANDARD
END:VTIMEZONE
BEGIN:VEVENT
DTSTART;VALUE=DATE:20240617
DTEND;VALUE=DATE:20240622
DTSTAMP:20260422T110124
CREATED:20240517T160634Z
LAST-MODIFIED:20240517T160634Z
UID:5880-1718582400-1719014399@www.brooksidechurch.cc
SUMMARY:Rose of Sharon Summer Youth Camp II   -   Tennessee
DESCRIPTION:360 Life Youth will be attending this week of at Rose of Sharon Summer Camp.
URL:https://www.brooksidechurch.cc/event/rose-of-sharon-summer-youth-camp-ii-tennessee/
END:VEVENT
BEGIN:VEVENT
DTSTART;TZID=America/Chicago:20240619T183000
DTEND;TZID=America/Chicago:20240619T194500
DTSTAMP:20260422T110124
CREATED:20240517T153913Z
LAST-MODIFIED:20240517T153913Z
UID:5838-1718821800-1718826300@www.brooksidechurch.cc
SUMMARY:Wednesday Mid-Week Bible Study
DESCRIPTION:Bro. Linc Lambeth will lead the Bible Study in the book of I Corinthians.  Children’s Class and Nursery will be provided.
URL:https://www.brooksidechurch.cc/event/wednesday-mid-week-bible-study/
END:VEVENT
BEGIN:VEVENT
DTSTART;TZID=America/Chicago:20240619T183000
DTEND;TZID=America/Chicago:20240619T203000
DTSTAMP:20260422T110124
CREATED:20240517T155256Z
LAST-MODIFIED:20240517T155256Z
UID:5853-1718821800-1718829000@www.brooksidechurch.cc
SUMMARY:360 Life Youth
DESCRIPTION:Youth meet in the basement youth area
URL:https://www.brooksidechurch.cc/event/360-life-youth-5/
END:VEVENT
END:VCALENDAR