BEGIN:VCALENDAR
VERSION:2.0
PRODID:-//Brookside Church - ECPv6.15.20//NONSGML v1.0//EN
CALSCALE:GREGORIAN
METHOD:PUBLISH
X-ORIGINAL-URL:https://www.brooksidechurch.cc
X-WR-CALDESC:Events for Brookside Church
REFRESH-INTERVAL;VALUE=DURATION:PT1H
X-Robots-Tag:noindex
X-PUBLISHED-TTL:PT1H
BEGIN:VTIMEZONE
TZID:America/Chicago
BEGIN:DAYLIGHT
TZOFFSETFROM:-0600
TZOFFSETTO:-0500
TZNAME:CDT
DTSTART:20230312T080000
END:DAYLIGHT
BEGIN:STANDARD
TZOFFSETFROM:-0500
TZOFFSETTO:-0600
TZNAME:CST
DTSTART:20231105T070000
END:STANDARD
BEGIN:DAYLIGHT
TZOFFSETFROM:-0600
TZOFFSETTO:-0500
TZNAME:CDT
DTSTART:20240310T080000
END:DAYLIGHT
BEGIN:STANDARD
TZOFFSETFROM:-0500
TZOFFSETTO:-0600
TZNAME:CST
DTSTART:20241103T070000
END:STANDARD
BEGIN:DAYLIGHT
TZOFFSETFROM:-0600
TZOFFSETTO:-0500
TZNAME:CDT
DTSTART:20250309T080000
END:DAYLIGHT
BEGIN:STANDARD
TZOFFSETFROM:-0500
TZOFFSETTO:-0600
TZNAME:CST
DTSTART:20251102T070000
END:STANDARD
END:VTIMEZONE
BEGIN:VEVENT
DTSTART;TZID=America/Chicago:20240630T090000
DTEND;TZID=America/Chicago:20240630T094500
DTSTAMP:20260422T093203
CREATED:20240517T141405Z
LAST-MODIFIED:20240517T141405Z
UID:5816-1719738000-1719740700@www.brooksidechurch.cc
SUMMARY:Sunday Morning Prayer - 9:00 - 9:45am
DESCRIPTION:Meet upstairs in the Sanctuary
URL:https://www.brooksidechurch.cc/event/sunday-morning-prayer-900-945am-16/
END:VEVENT
BEGIN:VEVENT
DTSTART;TZID=America/Chicago:20240630T090000
DTEND;TZID=America/Chicago:20240630T113000
DTSTAMP:20260422T093203
CREATED:20240517T151854Z
LAST-MODIFIED:20240517T151854Z
UID:5820-1719738000-1719747000@www.brooksidechurch.cc
SUMMARY:Sunday Morning Worship Service - Family Sunday
DESCRIPTION:No Children’s Church because of Family Sunday\, but Nursery will be provided.
URL:https://www.brooksidechurch.cc/event/sunday-morning-worship-service-family-sunday-7/
END:VEVENT
END:VCALENDAR