BEGIN:VCALENDAR
VERSION:2.0
PRODID:-//Brookside Church - ECPv6.15.20//NONSGML v1.0//EN
CALSCALE:GREGORIAN
METHOD:PUBLISH
X-ORIGINAL-URL:https://www.brooksidechurch.cc
X-WR-CALDESC:Events for Brookside Church
REFRESH-INTERVAL;VALUE=DURATION:PT1H
X-Robots-Tag:noindex
X-PUBLISHED-TTL:PT1H
BEGIN:VTIMEZONE
TZID:America/Chicago
BEGIN:DAYLIGHT
TZOFFSETFROM:-0600
TZOFFSETTO:-0500
TZNAME:CDT
DTSTART:20230312T080000
END:DAYLIGHT
BEGIN:STANDARD
TZOFFSETFROM:-0500
TZOFFSETTO:-0600
TZNAME:CST
DTSTART:20231105T070000
END:STANDARD
BEGIN:DAYLIGHT
TZOFFSETFROM:-0600
TZOFFSETTO:-0500
TZNAME:CDT
DTSTART:20240310T080000
END:DAYLIGHT
BEGIN:STANDARD
TZOFFSETFROM:-0500
TZOFFSETTO:-0600
TZNAME:CST
DTSTART:20241103T070000
END:STANDARD
BEGIN:DAYLIGHT
TZOFFSETFROM:-0600
TZOFFSETTO:-0500
TZNAME:CDT
DTSTART:20250309T080000
END:DAYLIGHT
BEGIN:STANDARD
TZOFFSETFROM:-0500
TZOFFSETTO:-0600
TZNAME:CST
DTSTART:20251102T070000
END:STANDARD
END:VTIMEZONE
BEGIN:VEVENT
DTSTART;TZID=America/Chicago:20240731T183000
DTEND;TZID=America/Chicago:20240731T194500
DTSTAMP:20260422T143303
CREATED:20240702T164359Z
LAST-MODIFIED:20240709T173658Z
UID:5907-1722450600-1722455100@www.brooksidechurch.cc
SUMMARY:Wednesday Mid-Week Service - Dinner & Devo
DESCRIPTION:Along with Dinner Bro. Linc Lambeth will be sharing a devotion with us.  Children’s Class and Nursery will be provided. See the Welcome Table for the Dinner & Devo sign-up sheet.
URL:https://www.brooksidechurch.cc/event/wednesday-mid-week-bible-study-dinner-devo-2/
END:VEVENT
BEGIN:VEVENT
DTSTART;TZID=America/Chicago:20240731T183000
DTEND;TZID=America/Chicago:20240731T203000
DTSTAMP:20260422T143303
CREATED:20240702T165402Z
LAST-MODIFIED:20240702T165402Z
UID:5924-1722450600-1722457800@www.brooksidechurch.cc
SUMMARY:360 Life Youth Service
DESCRIPTION:Youth meet in the basement youth area.
URL:https://www.brooksidechurch.cc/event/360-life-youth-service-223/
END:VEVENT
END:VCALENDAR