BEGIN:VCALENDAR
VERSION:2.0
PRODID:-//Brookside Church - ECPv6.15.20//NONSGML v1.0//EN
CALSCALE:GREGORIAN
METHOD:PUBLISH
X-WR-CALNAME:Brookside Church
X-ORIGINAL-URL:https://www.brooksidechurch.cc
X-WR-CALDESC:Events for Brookside Church
REFRESH-INTERVAL;VALUE=DURATION:PT1H
X-Robots-Tag:noindex
X-PUBLISHED-TTL:PT1H
BEGIN:VTIMEZONE
TZID:America/Chicago
BEGIN:DAYLIGHT
TZOFFSETFROM:-0600
TZOFFSETTO:-0500
TZNAME:CDT
DTSTART:20230312T080000
END:DAYLIGHT
BEGIN:STANDARD
TZOFFSETFROM:-0500
TZOFFSETTO:-0600
TZNAME:CST
DTSTART:20231105T070000
END:STANDARD
BEGIN:DAYLIGHT
TZOFFSETFROM:-0600
TZOFFSETTO:-0500
TZNAME:CDT
DTSTART:20240310T080000
END:DAYLIGHT
BEGIN:STANDARD
TZOFFSETFROM:-0500
TZOFFSETTO:-0600
TZNAME:CST
DTSTART:20241103T070000
END:STANDARD
BEGIN:DAYLIGHT
TZOFFSETFROM:-0600
TZOFFSETTO:-0500
TZNAME:CDT
DTSTART:20250309T080000
END:DAYLIGHT
BEGIN:STANDARD
TZOFFSETFROM:-0500
TZOFFSETTO:-0600
TZNAME:CST
DTSTART:20251102T070000
END:STANDARD
END:VTIMEZONE
BEGIN:VEVENT
DTSTART;TZID=America/Chicago:20240821T183000
DTEND;TZID=America/Chicago:20240821T194500
DTSTAMP:20260422T143218
CREATED:20240725T152436Z
LAST-MODIFIED:20240725T152436Z
UID:5970-1724265000-1724269500@www.brooksidechurch.cc
SUMMARY:Mid-Week Service
DESCRIPTION:Children’s Church and Nursery will be available.
URL:https://www.brooksidechurch.cc/event/mid-week-service-27/
END:VEVENT
BEGIN:VEVENT
DTSTART;TZID=America/Chicago:20240821T183000
DTEND;TZID=America/Chicago:20240821T203000
DTSTAMP:20260422T143218
CREATED:20240719T193418Z
LAST-MODIFIED:20240719T193418Z
UID:5945-1724265000-1724272200@www.brooksidechurch.cc
SUMMARY:360 Life Youth Service
DESCRIPTION:Youth meet in the basement youth area
URL:https://www.brooksidechurch.cc/event/360-life-youth-service-226/
END:VEVENT
END:VCALENDAR