BEGIN:VCALENDAR
VERSION:2.0
PRODID:-//Brookside Church - ECPv6.15.20//NONSGML v1.0//EN
CALSCALE:GREGORIAN
METHOD:PUBLISH
X-WR-CALNAME:Brookside Church
X-ORIGINAL-URL:https://www.brooksidechurch.cc
X-WR-CALDESC:Events for Brookside Church
REFRESH-INTERVAL;VALUE=DURATION:PT1H
X-Robots-Tag:noindex
X-PUBLISHED-TTL:PT1H
BEGIN:VTIMEZONE
TZID:America/Chicago
BEGIN:DAYLIGHT
TZOFFSETFROM:-0600
TZOFFSETTO:-0500
TZNAME:CDT
DTSTART:20230312T080000
END:DAYLIGHT
BEGIN:STANDARD
TZOFFSETFROM:-0500
TZOFFSETTO:-0600
TZNAME:CST
DTSTART:20231105T070000
END:STANDARD
BEGIN:DAYLIGHT
TZOFFSETFROM:-0600
TZOFFSETTO:-0500
TZNAME:CDT
DTSTART:20240310T080000
END:DAYLIGHT
BEGIN:STANDARD
TZOFFSETFROM:-0500
TZOFFSETTO:-0600
TZNAME:CST
DTSTART:20241103T070000
END:STANDARD
BEGIN:DAYLIGHT
TZOFFSETFROM:-0600
TZOFFSETTO:-0500
TZNAME:CDT
DTSTART:20250309T080000
END:DAYLIGHT
BEGIN:STANDARD
TZOFFSETFROM:-0500
TZOFFSETTO:-0600
TZNAME:CST
DTSTART:20251102T070000
END:STANDARD
END:VTIMEZONE
BEGIN:VEVENT
DTSTART;TZID=America/Chicago:20241103T090000
DTEND;TZID=America/Chicago:20241103T094500
DTSTAMP:20260422T110236
CREATED:20241105T162857Z
LAST-MODIFIED:20241105T162857Z
UID:6066-1730624400-1730627100@www.brooksidechurch.cc
SUMMARY:Sunday Morning Prayer
DESCRIPTION:Join us in the Sanctuary for a time of prayer for the Sunday Morning Service – 9:00 – 9:45 am.
URL:https://www.brooksidechurch.cc/event/sunday-morning-prayer-21/
END:VEVENT
BEGIN:VEVENT
DTSTART;TZID=America/Chicago:20241103T100000
DTEND;TZID=America/Chicago:20241103T113000
DTSTAMP:20260422T110236
CREATED:20241105T162241Z
LAST-MODIFIED:20241105T162241Z
UID:6054-1730628000-1730633400@www.brooksidechurch.cc
SUMMARY:Sunday Morning Worship Service
DESCRIPTION:10:00 AM   –  Children’s Church and Nursery is available.
URL:https://www.brooksidechurch.cc/event/sunday-morning-worship-service-83/
END:VEVENT
BEGIN:VEVENT
DTSTART;TZID=America/Chicago:20241103T170000
DTEND;TZID=America/Chicago:20241103T200000
DTSTAMP:20260422T110236
CREATED:20241105T163307Z
LAST-MODIFIED:20241105T163307Z
UID:6074-1730653200-1730664000@www.brooksidechurch.cc
SUMMARY:Brookside Church Annual Bonfire
DESCRIPTION:Join us from 5:00 to 8:00 p.m. for the Brookside Church Annual Bonfire. There will be lots of fun\, food\, and fellowship. It’s a great time for the whole family.
URL:https://www.brooksidechurch.cc/event/brookside-church-annual-bonfire-2/
END:VEVENT
END:VCALENDAR