BEGIN:VCALENDAR
VERSION:2.0
PRODID:-//Brookside Church - ECPv6.15.20//NONSGML v1.0//EN
CALSCALE:GREGORIAN
METHOD:PUBLISH
X-ORIGINAL-URL:https://www.brooksidechurch.cc
X-WR-CALDESC:Events for Brookside Church
REFRESH-INTERVAL;VALUE=DURATION:PT1H
X-Robots-Tag:noindex
X-PUBLISHED-TTL:PT1H
BEGIN:VTIMEZONE
TZID:America/Chicago
BEGIN:DAYLIGHT
TZOFFSETFROM:-0600
TZOFFSETTO:-0500
TZNAME:CDT
DTSTART:20240310T080000
END:DAYLIGHT
BEGIN:STANDARD
TZOFFSETFROM:-0500
TZOFFSETTO:-0600
TZNAME:CST
DTSTART:20241103T070000
END:STANDARD
BEGIN:DAYLIGHT
TZOFFSETFROM:-0600
TZOFFSETTO:-0500
TZNAME:CDT
DTSTART:20250309T080000
END:DAYLIGHT
BEGIN:STANDARD
TZOFFSETFROM:-0500
TZOFFSETTO:-0600
TZNAME:CST
DTSTART:20251102T070000
END:STANDARD
BEGIN:DAYLIGHT
TZOFFSETFROM:-0600
TZOFFSETTO:-0500
TZNAME:CDT
DTSTART:20260308T080000
END:DAYLIGHT
BEGIN:STANDARD
TZOFFSETFROM:-0500
TZOFFSETTO:-0600
TZNAME:CST
DTSTART:20261101T070000
END:STANDARD
END:VTIMEZONE
BEGIN:VEVENT
DTSTART;VALUE=DATE:20250602
DTEND;VALUE=DATE:20250607
DTSTAMP:20260423T003525
CREATED:20250520T193459Z
LAST-MODIFIED:20250520T193644Z
UID:6400-1748822400-1749254399@www.brooksidechurch.cc
SUMMARY:White River Baptist Church Summer Camp
DESCRIPTION:
URL:https://www.brooksidechurch.cc/event/white-river-baptist-church-summer-camp/
END:VEVENT
BEGIN:VEVENT
DTSTART;TZID=America/Chicago:20250604T183000
DTEND;TZID=America/Chicago:20250604T194500
DTSTAMP:20260423T003525
CREATED:20250520T194141Z
LAST-MODIFIED:20250520T194324Z
UID:6407-1749061800-1749066300@www.brooksidechurch.cc
SUMMARY:Mid-Week Service
DESCRIPTION:Bro. Linc will be leading the Wednesday Night Service. Children’s Class and Nursery will be available.
URL:https://www.brooksidechurch.cc/event/mid-week-service-51/
END:VEVENT
BEGIN:VEVENT
DTSTART;TZID=America/Chicago:20250604T183000
DTEND;TZID=America/Chicago:20250604T203000
DTSTAMP:20260423T003525
CREATED:20250522T185256Z
LAST-MODIFIED:20250522T185256Z
UID:6420-1749061800-1749069000@www.brooksidechurch.cc
SUMMARY:360 Life Youth Service
DESCRIPTION:6:30 pm in the Youth Area. For more information\, contact Pastor TJ or Mandie Tyler.
URL:https://www.brooksidechurch.cc/event/360-life-youth-service-244/
END:VEVENT
END:VCALENDAR