BEGIN:VCALENDAR
VERSION:2.0
PRODID:-//Brookside Church - ECPv6.15.20//NONSGML v1.0//EN
CALSCALE:GREGORIAN
METHOD:PUBLISH
X-ORIGINAL-URL:https://www.brooksidechurch.cc
X-WR-CALDESC:Events for Brookside Church
REFRESH-INTERVAL;VALUE=DURATION:PT1H
X-Robots-Tag:noindex
X-PUBLISHED-TTL:PT1H
BEGIN:VTIMEZONE
TZID:America/Chicago
BEGIN:DAYLIGHT
TZOFFSETFROM:-0600
TZOFFSETTO:-0500
TZNAME:CDT
DTSTART:20190310T080000
END:DAYLIGHT
BEGIN:STANDARD
TZOFFSETFROM:-0500
TZOFFSETTO:-0600
TZNAME:CST
DTSTART:20191103T070000
END:STANDARD
BEGIN:DAYLIGHT
TZOFFSETFROM:-0600
TZOFFSETTO:-0500
TZNAME:CDT
DTSTART:20200308T080000
END:DAYLIGHT
BEGIN:STANDARD
TZOFFSETFROM:-0500
TZOFFSETTO:-0600
TZNAME:CST
DTSTART:20201101T070000
END:STANDARD
BEGIN:DAYLIGHT
TZOFFSETFROM:-0600
TZOFFSETTO:-0500
TZNAME:CDT
DTSTART:20210314T080000
END:DAYLIGHT
BEGIN:STANDARD
TZOFFSETFROM:-0500
TZOFFSETTO:-0600
TZNAME:CST
DTSTART:20211107T070000
END:STANDARD
END:VTIMEZONE
BEGIN:VEVENT
DTSTART;TZID=America/Chicago:20200603T183000
DTEND;TZID=America/Chicago:20200603T200000
DTSTAMP:20260423T130026
CREATED:20200521T184423Z
LAST-MODIFIED:20200521T184423Z
UID:2681-1591209000-1591214400@www.brooksidechurch.cc
SUMMARY:GT Groups (Grow Together)
DESCRIPTION:GT Groups (Grow Together) meet at 6:30 pm to 8:00 pm – Only one location\, due to the Corona Virus –  Pastor Kevin’s office at Brookside Church on Hwy F\, led by Pastor Kevin.  This is a time we dig into God’s word and Grow Together.
URL:https://www.brooksidechurch.cc/event/gt-groups-grow-together-22/
END:VEVENT
BEGIN:VEVENT
DTSTART;TZID=America/Chicago:20200607T100000
DTEND;TZID=America/Chicago:20200607T113000
DTSTAMP:20260423T130026
CREATED:20200521T183723Z
LAST-MODIFIED:20200521T183723Z
UID:2671-1591524000-1591529400@www.brooksidechurch.cc
SUMMARY:Sunday Service - 10:00 AM
DESCRIPTION:Church Service Canceled Due to the Guidelines Put Out by the CDC Concerning the Coronavirus.  We will be live-streaming the service Sunday morning on Facebook at 10:00 AM.
URL:https://www.brooksidechurch.cc/event/sunday-service-1000-am/
END:VEVENT
BEGIN:VEVENT
DTSTART;TZID=America/Chicago:20200610T183000
DTEND;TZID=America/Chicago:20200610T200000
DTSTAMP:20260423T130026
CREATED:20200521T184825Z
LAST-MODIFIED:20200521T184825Z
UID:2691-1591813800-1591819200@www.brooksidechurch.cc
SUMMARY:GT Groups (Grow Together)
DESCRIPTION:GT Groups (Grow Together) meet at 6:30 pm to 8:00 pm – Only one location\, due to the Corona Virus –  Pastor Kevin’s office at Brookside Church on Hwy F\, led by Pastor Kevin.  This is a time we dig into God’s word and Grow Together.
URL:https://www.brooksidechurch.cc/event/gt-groups-grow-together-26/
END:VEVENT
BEGIN:VEVENT
DTSTART;TZID=America/Chicago:20200614T100000
DTEND;TZID=America/Chicago:20200614T113000
DTSTAMP:20260423T130026
CREATED:20200521T183827Z
LAST-MODIFIED:20200521T183912Z
UID:2673-1592128800-1592134200@www.brooksidechurch.cc
SUMMARY:Sunday Service - 10:00 AM
DESCRIPTION:Church Service Canceled Due to the Guidelines Put Out by the CDC Concerning the Coronavirus.  We will be live-streaming the service Sunday morning on Facebook at 10:00 AM.
URL:https://www.brooksidechurch.cc/event/sunday-service-1000-am-2/
END:VEVENT
BEGIN:VEVENT
DTSTART;TZID=America/Chicago:20200617T183000
DTEND;TZID=America/Chicago:20200617T200000
DTSTAMP:20260423T130026
CREATED:20200521T184724Z
LAST-MODIFIED:20200521T184724Z
UID:2688-1592418600-1592424000@www.brooksidechurch.cc
SUMMARY:GT Groups (Grow Together)
DESCRIPTION:GT Groups (Grow Together) meet at 6:30 pm to 8:00 pm – Only one location\, due to the Corona Virus –  Pastor Kevin’s office at Brookside Church on Hwy F\, led by Pastor Kevin.  This is a time we dig into God’s word and Grow Together.
URL:https://www.brooksidechurch.cc/event/gt-groups-grow-together-25/
END:VEVENT
BEGIN:VEVENT
DTSTART;TZID=America/Chicago:20200621T100000
DTEND;TZID=America/Chicago:20200621T113000
DTSTAMP:20260423T130026
CREATED:20200521T183956Z
LAST-MODIFIED:20200521T184045Z
UID:2676-1592733600-1592739000@www.brooksidechurch.cc
SUMMARY:Sunday Service 10:00 AM
DESCRIPTION:Church Service Canceled Due to the Guidelines Put Out by the CDC Concerning the Coronavirus.  We will be live-streaming the service Sunday morning on Facebook at 10:00 AM.
URL:https://www.brooksidechurch.cc/event/sunday-service-1000-am-3/
END:VEVENT
BEGIN:VEVENT
DTSTART;TZID=America/Chicago:20200624T183000
DTEND;TZID=America/Chicago:20200624T200000
DTSTAMP:20260423T130026
CREATED:20200521T184548Z
LAST-MODIFIED:20200521T184632Z
UID:2686-1593023400-1593028800@www.brooksidechurch.cc
SUMMARY:GT Groups (Grow Together)
DESCRIPTION:GT Groups (Grow Together) meet at 6:30 pm to 8:00 pm – Only one location\, due to the Corona Virus –  Pastor Kevin’s office at Brookside Church on Hwy F\, led by Pastor Kevin.  This is a time we dig into God’s word and Grow Together.
URL:https://www.brooksidechurch.cc/event/gt-groups-grow-together-24/
END:VEVENT
BEGIN:VEVENT
DTSTART;TZID=America/Chicago:20200628T100000
DTEND;TZID=America/Chicago:20200628T113000
DTSTAMP:20260423T130026
CREATED:20200521T184148Z
LAST-MODIFIED:20200521T184148Z
UID:2678-1593338400-1593343800@www.brooksidechurch.cc
SUMMARY:Sunday Service - 10:00 AM
DESCRIPTION:Church Service Canceled Due to the Guidelines Put Out by the CDC Concerning the Coronavirus.  We will be live-streaming the service Sunday morning on Facebook at 10:00 AM.
URL:https://www.brooksidechurch.cc/event/sunday-service-1000-am-4/
END:VEVENT
END:VCALENDAR